Workbook

Sheet Instructions

Sheet Lists
A1: Priority | B1: Impact | C1: Level of Assurance
A2: High | B2: High | C2: Substantial
A3: Medium | B3: Medium | C3: Reasonable
A4: Low | B4: Low | C4: Limited
D7: Criteria 1 | E7: Criteria 2 | F7: Criteria 3 | G7: Criteria 4 | H7: Criteria 5 | I7: Criteria 6 | J7: Criteria 7 | K7: Criteria 8 | L7: Criteria 9 | M7: Criteria 10 | N7: Criteria 11 | O7: Criteria 12 | P7: Criteria 13 | Q7: Criteria 14 | R7: Criteria 15
D8: =IF('Criteria 1'!$D$2="Substantial",1,IF('Criteria 1'!$D$2="Reasonable",2,IF('Criteria 1'!$D$2="Limited",3,0))) -> 1 | E8: =IF('Criteria 2'!$D$2="Substantial",1,IF('Criteria 2'!$D$2="Reasonable",2,IF('Criteria 2'!$D$2="Limited",3,0))) -> 1 | F8: =IF('Criteria 3'!$D$2="Substantial",1,IF('Criteria 3'!$D$2="Reasonable",2,IF('Criteria 3'!$D$2="Limited",3,0))) -> 1 | G8: =IF('Criteria 4'!$D$2="Substantial",1,IF('Criteria 4'!$D$2="Reasonable",2,IF('Criteria 4'!$D$2="Limited",3,0))) -> 1 | H8: =IF('Criteria 5'!$D$2="Substantial",1,IF('Criteria 5'!$D$2="Reasonable",2,IF('Criteria 5'!$D$2="Limited",3,0))) -> 1 | I8: =IF('Criteria 6'!$D$2="Substantial",1,IF('Criteria 6'!$D$2="Reasonable",2,IF('Criteria 6'!$D$2="Limited",3,0))) -> 1 | J8: =IF('Criteria 7'!$D$2="Substantial",1,IF('Criteria 7'!$D$2="Reasonable",2,IF('Criteria 7'!$D$2="Limited",3,0))) -> 1 | K8: =IF('Criteria 8'!$D$2="Substantial",1,IF('Criteria 8'!$D$2="Reasonable",2,IF('Criteria 8'!$D$2="Limited",3,0))) -> 1 | L8: =IF('Criteria 9'!$D$2="Substantial",1,IF('Criteria 9'!$D$2="Reasonable",2,IF('Criteria 9'!$D$2="Limited",3,0))) -> 1 | M8: =IF('Criteria 10'!$D$2="Substantial",1,IF('Criteria 10'!$D$2="Reasonable",2,IF('Criteria 10'!$D$2="Limited",3,0))) -> 1 | N8: =IF('Criteria 11'!$D$2="Substantial",1,IF('Criteria 11'!$D$2="Reasonable",2,IF('Criteria 11'!$D$2="Limited",3,0))) -> 1 | O8: =IF('Criteria 12'!$D$2="Substantial",1,IF('Criteria 12'!$D$2="Reasonable",2,IF('Criteria 12'!$D$2="Limited",3,0))) -> 1 | P8: =IF('Criteria 13'!$D$2="Substantial",1,IF('Criteria 13'!$D$2="Reasonable",2,IF('Criteria 13'!$D$2="Limited",3,0))) -> 1 | Q8: =IF('Criteria 14'!$D$2="Substantial",1,IF('Criteria 14'!$D$2="Reasonable",2,IF('Criteria 14'!$D$2="Limited",3,0))) -> 1 | R8: =IF('Criteria 15'!$D$2="Substantial",1,IF('Criteria 15'!$D$2="Reasonable",2,IF('Criteria 15'!$D$2="Limited",3,0))) -> 1
D10: Substantial | E10: =COUNTIF($D$8:$R$8,1) -> 15
D11: Reasonable | E11: =COUNTIF($D$8:$R$8,2) -> 0
D12: Limited | E12: =COUNTIF($D$8:$R$8,3) -> 0

Sheet 3xAssurance
B1: =Dashboard!I4 -> Operational Preparedness | C1: Risk Based Approach
A2: Criteria | B2: Description | C2: Priority | D2: Impact | E2: First Line | F2: Second Line | G2: Third Line | H2: Notes and Actions
E3: Front line or business operational controls e.g: Policy, procedures, guidance Performance dashboards Monitoring statistics Localised risk registers Routine reports PDRs | F3: Management oversight activity e.g: Corporate governance and performance reporting Change management assurance and highlight reporting Ops assurance, assessments Debriefs Submitting learning tool entries and subsequent actions Evaluations and benefit reviews Other departmental self assessments / routine checks | G3: Independent external assurance e.g: HMICFRS Inspection Programme Internal audit Home Office data returns and benchmarking Peer reviews External audit Consultancy | H3: Any gaps outlined in the AFIs or HMICFRS that are addressed here? Any fit to existing action plans? Other pertinent links to assure this criteria?
A4: =Dashboard!A14 -> 1 | B4: =Dashboard!B14 -> Have an operational strategy that is based on a thorough assessment of risk to the community.
A5: =Dashboard!A15 -> 2 | B5: =Dashboard!B15 -> Be able to evidence consideration of and actions taken in relation to the below key activities, when preparing and providing an operational response: A. legislative responsibilities; B. data management; C. risk management; D. health and safety management; E. site-specific risk information; F. emergency response plans; G. operational assurance; H. competence and training, including validation and revalidation; I. organisational learning, including operational learning; and J.participation in legal proceedings.
A6: =Dashboard!A16 -> 3 | B6: =Dashboard!B16 -> Undertake all appropriate risk assessments, as required under legislation, to prepare for an operational response.
A7: =Dashboard!A17 -> 4 | B7: =Dashboard!B17 -> Review existing cover models, resources, equipment and training against all appropriate risk assessments.
A8: =Dashboard!A18 -> 5 | B8: =Dashboard!B18 -> Carry out capabilities-based planning to support emergency preparedness and response from a national, regional or local level.
A9: =Dashboard!A19 -> 6 | B9: =Dashboard!B19 -> Determine its responsibilities for operational response and be fully prepared to deliver them.
A10: =Dashboard!A20 -> 7 | B10: =Dashboard!B20 -> Have a health and safety policy for the operational and fire control environment that clearly outlines the responsible parties and their obligations.
A11: =Dashboard!A21 -> 8 | B11: =Dashboard!B21 -> Undertake a review of how the organisation is structured and functions, to confirm its ability to support operational preparedness; if there are any gaps identified there should be a clear plan for making appropriate changes.
A12: =Dashboard!A22 -> 9 | B12: =Dashboard!B22 -> Develop and embed operational policies, procedures and tailored guidance based on the NFCC Operational Guidance, unless by evidenced exception its content is not relevant to the service.
A13: =Dashboard!A23 -> 10 | B13: =Dashboard!B23 -> Deliver the strategic actions provided in the suite of NFCC Operational Guidance and Fire Control Guidance frameworks, unless by evidenced exception a strategic action is not relevant to the service; the strategic gap analysis tool may be used to support this process.
A14: =Dashboard!A24 -> 11 | B14: =Dashboard!B24 -> Train its operational and fire control employees to carry out operational activities safely and effectively; this includes the ability to recognise hazards and use control measures to reduce the risks arising from those hazards.
A15: =Dashboard!A25 -> 12 | B15: =Dashboard!B25 -> Align relevant policies, procedures and tailored guidance in preparation for working with other fire and rescue services, National Resilience, other Category 1 and Category 2 responders and Local Resilience Forums, to improve its operational response to multi-agency incidents.
... A18: =Dashboard!A28 -> 15 | B18: =Dashboard!B28 -> Work within regional, national or thematic groups to develop and improve its policies, procedures, tailored guidance and training for operational response.

Sheet Dashboard
E4: Fire Standard: | I4: Operational Preparedness
B6: Please fill in the contact details below: | I6: Overall Level of Assurance with Standard
B7: Fire and Rescue Service
B8: Contact Name
B9: Contact Email Address
B10: Contact Phone Number
A12: Criteria | B12: Description | C12: Priority | F12: Impact | I12: Level of Assurance
C13: Low | D13: Medium | E13: High | F13: Low | G13: Medium | H13: High | I13: Substantial | J13: Reasonable | K13: Limited | L13: Chart
A14: 1 | B14: Have an operational strategy that is based on a thorough assessment of risk to the community. | C14: =COUNTIF('Criteria 1'!$B$3:$B$50,"Low") -> 0 | D14: =COUNTIF('Criteria 1'!$B$3:$B$50,"Medium") -> 0 | E14: =COUNTIF('Criteria 1'!$B$3:$B$50,"High") -> 0 | F14: =COUNTIF('Criteria 1'!$C$3:$C$50,"Low") -> 0 | G14: =COUNTIF('Criteria 1'!$C$3:$C$50,"Medium") -> 0 | H14: =COUNTIF('Criteria 1'!$C$3:$C$50,"High") -> 0 | I14: =COUNTIF('Criteria 1'!$D$3:$D$50,"Substantial") -> 0 | J14: =COUNTIF('Criteria 1'!$D$3:$D$50,"Reasonable") -> 0 | K14: =COUNTIF('Criteria 1'!$D$3:$D$50,"Limited") -> 0
A15: 2 | B15: Be able to evidence consideration of and actions taken in relation to the below key activities, when preparing and providing an operational response: A. legislative responsibilities; B. data management; C. risk management; D. health and safety management; E. site-specific risk information; F. emergency response plans; G. operational assurance; H. competence and training, including validation and revalidation; I. organisational learning, including operational learning; and J.participation in legal proceedings. | C15: =COUNTIF('Criteria 2'!$B$3:$B$50,"Low") -> 0 | D15: =COUNTIF('Criteria 2'!$B$3:$B$50,"Medium") -> 0 | E15: =COUNTIF('Criteria 2'!$B$3:$B$50,"High") -> 0 | F15: =COUNTIF('Criteria 2'!$C$3:$C$50,"Low") -> 0 | G15: =COUNTIF('Criteria 2'!$C$3:$C$50,"Medium") -> 0 | H15: =COUNTIF('Criteria 2'!$C$3:$C$50,"High") -> 0 | I15: =COUNTIF('Criteria 2'!$D$3:$D$50,"Substantial") -> 0 | J15: =COUNTIF('Criteria 2'!$D$3:$D$50,"Reasonable") -> 0 | K15: =COUNTIF('Criteria 2'!$D$3:$D$50,"Limited") -> 0
A16: 3 | B16: Undertake all appropriate risk assessments, as required under legislation, to prepare for an operational response. | C16: =COUNTIF('Criteria 3'!$B$3:$B$50,"Low") -> 0 | D16: =COUNTIF('Criteria 3'!$B$3:$B$50,"Medium") -> 0 | E16: =COUNTIF('Criteria 3'!$B$3:$B$50,"High") -> 0 | F16: =COUNTIF('Criteria 3'!$C$3:$C$50,"Low") -> 0 | G16: =COUNTIF('Criteria 3'!$C$3:$C$50,"Medium") -> 0 | H16: =COUNTIF('Criteria 3'!$C$3:$C$50,"High") -> 0 | I16: =COUNTIF('Criteria 3'!$D$3:$D$50,"Substantial") -> 0 | J16: =COUNTIF('Criteria 3'!$D$3:$D$50,"Reasonable") -> 0 | K16: =COUNTIF('Criteria 3'!$D$3:$D$50,"Limited") -> 0
A17: 4 | B17: Review existing cover models, resources, equipment and training against all appropriate risk assessments. | C17: =COUNTIF('Criteria 4'!$B$3:$B$50,"Low") -> 0 | D17: =COUNTIF('Criteria 4'!$B$3:$B$50,"Medium") -> 0 | E17: =COUNTIF('Criteria 4'!$B$3:$B$50,"High") -> 0 | F17: =COUNTIF('Criteria 4'!$C$3:$C$50,"Low") -> 0 | G17: =COUNTIF('Criteria 4'!$C$3:$C$50,"Medium") -> 0 | H17: =COUNTIF('Criteria 4'!$C$3:$C$50,"High") -> 0 | I17: =COUNTIF('Criteria 4'!$D$3:$D$50,"Substantial") -> 0 | J17: =COUNTIF('Criteria 4'!$D$3:$D$50,"Reasonable") -> 0 | K17: =COUNTIF('Criteria 4'!$D$3:$D$50,"Limited") -> 0
A18: 5 | B18: Carry out capabilities-based planning to support emergency preparedness and response from a national, regional or local level. | C18: =COUNTIF('Criteria 5'!$B$3:$B$50,"Low") -> 0 | D18: =COUNTIF('Criteria 5'!$B$3:$B$50,"Medium") -> 0 | E18: =COUNTIF('Criteria 5'!$B$3:$B$50,"High") -> 0 | F18: =COUNTIF('Criteria 5'!$C$3:$C$50,"Low") -> 0 | G18: =COUNTIF('Criteria 5'!$C$3:$C$50,"Medium") -> 0 | H18: =COUNTIF('Criteria 5'!$C$3:$C$50,"High") -> 0 | I18: =COUNTIF('Criteria 5'!$D$3:$D$50,"Substantial") -> 0 | J18: =COUNTIF('Criteria 5'!$D$3:$D$50,"Reasonable") -> 0 | K18: =COUNTIF('Criteria 5'!$D$3:$D$50,"Limited") -> 0
A19: 6 | B19: Determine its responsibilities for operational response and be fully prepared to deliver them. | C19: =COUNTIF('Criteria 6'!$B$3:$B$50,"Low") -> 0 | D19: =COUNTIF('Criteria 6'!$B$3:$B$50,"Medium") -> 0 | E19: =COUNTIF('Criteria 6'!$B$3:$B$50,"High") -> 0 | F19: =COUNTIF('Criteria 6'!$C$3:$C$50,"Low") -> 0 | G19: =COUNTIF('Criteria 6'!$C$3:$C$50,"Medium") -> 0 | H19: =COUNTIF('Criteria 6'!$C$3:$C$50,"High") -> 0 | I19: =COUNTIF('Criteria 6'!$D$3:$D$50,"Substantial") -> 0 | J19: =COUNTIF('Criteria 6'!$D$3:$D$50,"Reasonable") -> 0 | K19: =COUNTIF('Criteria 6'!$D$3:$D$50,"Limited") -> 0
A20: 7 | B20: Have a health and safety policy for the operational and fire control environment that clearly outlines the responsible parties and their obligations. | C20: =COUNTIF('Criteria 7'!$B$3:$B$50,"Low") -> 0 | D20: =COUNTIF('Criteria 7'!$B$3:$B$50,"Medium") -> 0 | E20: =COUNTIF('Criteria 7'!$B$3:$B$50,"High") -> 0 | F20: =COUNTIF('Criteria 7'!$C$3:$C$50,"Low") -> 0 | G20: =COUNTIF('Criteria 7'!$C$3:$C$50,"Medium") -> 0 | H20: =COUNTIF('Criteria 7'!$C$3:$C$50,"High") -> 0 | I20: =COUNTIF('Criteria 7'!$D$3:$D$50,"Substantial") -> 0 | J20: =COUNTIF('Criteria 7'!$D$3:$D$50,"Reasonable") -> 0 | K20: =COUNTIF('Criteria 7'!$D$3:$D$50,"Limited") -> 0
A21: 8 | B21: Undertake a review of how the organisation is structured and functions, to confirm its ability to support operational preparedness; if there are any gaps identified there should be a clear plan for making appropriate changes. | C21: =COUNTIF('Criteria 8'!$B$3:$B$50,"Low") -> 0 | D21: =COUNTIF('Criteria 8'!$B$3:$B$50,"Medium") -> 0 | E21: =COUNTIF('Criteria 8'!$B$3:$B$50,"High") -> 0 | F21: =COUNTIF('Criteria 8'!$C$3:$C$50,"Low") -> 0 | G21: =COUNTIF('Criteria 8'!$C$3:$C$50,"Medium") -> 0 | H21: =COUNTIF('Criteria 8'!$C$3:$C$50,"High") -> 0 | I21: =COUNTIF('Criteria 8'!$D$3:$D$50,"Substantial") -> 0 | J21: =COUNTIF('Criteria 8'!$D$3:$D$50,"Reasonable") -> 0 | K21: =COUNTIF('Criteria 8'!$D$3:$D$50,"Limited") -> 0
A22: 9 | B22: Develop and embed operational policies, procedures and tailored guidance based on the NFCC Operational Guidance, unless by evidenced exception its content is not relevant to the service. | C22: =COUNTIF('Criteria 9'!$B$3:$B$50,"Low") -> 0 | D22: =COUNTIF('Criteria 9'!$B$3:$B$50,"Medium") -> 0 | E22: =COUNTIF('Criteria 9'!$B$3:$B$50,"High") -> 0 | F22: =COUNTIF('Criteria 9'!$C$3:$C$50,"Low") -> 0 | G22: =COUNTIF('Criteria 9'!$C$3:$C$50,"Medium") -> 0 | H22: =COUNTIF('Criteria 9'!$C$3:$C$50,"High") -> 0 | I22: =COUNTIF('Criteria 9'!$D$3:$D$50,"Substantial") -> 0 | J22: =COUNTIF('Criteria 9'!$D$3:$D$50,"Reasonable") -> 0 | K22: =COUNTIF('Criteria 9'!$D$3:$D$50,"Limited") -> 0
A23: 10 | B23: Deliver the strategic actions provided in the suite of NFCC Operational Guidance and Fire Control Guidance frameworks, unless by evidenced exception a strategic action is not relevant to the service; the strategic gap analysis tool may be used to support this process. | C23: =COUNTIF('Criteria 10'!$B$3:$B$50,"Low") -> 0 | D23: =COUNTIF('Criteria 10'!$B$3:$B$50,"Medium") -> 0 | E23: =COUNTIF('Criteria 10'!$B$3:$B$50,"High") -> 0 | F23: =COUNTIF('Criteria 10'!$C$3:$C$50,"Low") -> 0 | G23: =COUNTIF('Criteria 10'!$C$3:$C$50,"Medium") -> 0 | H23: =COUNTIF('Criteria 10'!$C$3:$C$50,"High") -> 0 | I23: =COUNTIF('Criteria 10'!$D$3:$D$50,"Substantial") -> 0 | J23: =COUNTIF('Criteria 10'!$D$3:$D$50,"Reasonable") -> 0 | K23: =COUNTIF('Criteria 10'!$D$3:$D$50,"Limited") -> 0
A24: 11 | B24: Train its operational and fire control employees to carry out operational activities safely and effectively; this includes the ability to recognise hazards and use control measures to reduce the risks arising from those hazards. | C24: =COUNTIF('Criteria 11'!$B$3:$B$50,"Low") -> 0 | D24: =COUNTIF('Criteria 11'!$B$3:$B$50,"Medium") -> 0 | E24: =COUNTIF('Criteria 11'!$B$3:$B$50,"High") -> 0 | F24: =COUNTIF('Criteria 11'!$C$3:$C$50,"Low") -> 0 | G24: =COUNTIF('Criteria 11'!$C$3:$C$50,"Medium") -> 0 | H24: =COUNTIF('Criteria 11'!$C$3:$C$50,"High") -> 0 | I24: =COUNTIF('Criteria 11'!$D$3:$D$50,"Substantial") -> 0 | J24: =COUNTIF('Criteria 11'!$D$3:$D$50,"Reasonable") -> 0 | K24: =COUNTIF('Criteria 11'!$D$3:$D$50,"Limited") -> 0
A25: 12 | B25: Align relevant policies, procedures and tailored guidance in preparation for working with other fire and rescue services, National Resilience, other Category 1 and Category 2 responders and Local Resilience Forums, to improve its operational response to multi-agency incidents. | C25: =COUNTIF('Criteria 12'!$B$3:$B$50,"Low") -> 0 | D25: =COUNTIF('Criteria 12'!$B$3:$B$50,"Medium") -> 0 | E25: =COUNTIF('Criteria 12'!$B$3:$B$50,"High") -> 0 | F25: =COUNTIF('Criteria 12'!$C$3:$C$50,"Low") -> 0 | G25: =COUNTIF('Criteria 12'!$C$3:$C$50,"Medium") -> 0 | H25: =COUNTIF('Criteria 12'!$C$3:$C$50,"High") -> 0 | I25: =COUNTIF('Criteria 12'!$D$3:$D$50,"Substantial") -> 0 | J25: =COUNTIF('Criteria 12'!$D$3:$D$50,"Reasonable") -> 0 | K25: =COUNTIF('Criteria 12'!$D$3:$D$50,"Limited") -> 0
A26: 13 | B26: Have processes in place for capturing learning: A. at incidents B. post-incident C. as a result of training exercises undertaken both internally and multi-agency / cross border D. as a result of near miss or accident investigations that may be relevant to operational response E. from any other sources | C26: =COUNTIF('Criteria 13'!$B$3:$B$50,"Low") -> 0 | D26: =COUNTIF('Criteria 13'!$B$3:$B$50,"Medium") -> 0 | E26: =COUNTIF('Criteria 13'!$B$3:$B$50,"High") -> 0 | F26: =COUNTIF('Criteria 13'!$C$3:$C$50,"Low") -> 0 | G26: =COUNTIF('Criteria 13'!$C$3:$C$50,"Medium") -> 0 | H26: =COUNTIF('Criteria 13'!$C$3:$C$50,"High") -> 0 | I26: =COUNTIF('Criteria 13'!$D$3:$D$50,"Substantial") -> 0 | J26: =COUNTIF('Criteria 13'!$D$3:$D$50,"Reasonable") -> 0 | K26: =COUNTIF('Criteria 13'!$D$3:$D$50,"Limited") -> 0
A27: 14 | B27: Use the Training Specifications to inform its training needs analysis. | C27: =COUNTIF('Criteria 14'!$B$3:$B$50,"Low") -> 0 | D27: =COUNTIF('Criteria 14'!$B$3:$B$50,"Medium") -> 0 | E27: =COUNTIF('Criteria 14'!$B$3:$B$50,"High") -> 0 | F27: =COUNTIF('Criteria 14'!$C$3:$C$50,"Low") -> 0 | G27: =COUNTIF('Criteria 14'!$C$3:$C$50,"Medium") -> 0 | H27: =COUNTIF('Criteria 14'!$C$3:$C$50,"High") -> 0 | I27: =COUNTIF('Criteria 14'!$D$3:$D$50,"Substantial") -> 0 | J27: =COUNTIF('Criteria 14'!$D$3:$D$50,"Reasonable") -> 0 | K27: =COUNTIF('Criteria 14'!$D$3:$D$50,"Limited") -> 0
A28: 15 | B28: Work within regional, national or thematic groups to develop and improve its policies, procedures, tailored guidance and training for operational response. | C28: =COUNTIF('Criteria 15'!$B$3:$B$50,"Low") -> 0 | D28: =COUNTIF('Criteria 15'!$B$3:$B$50,"Medium") -> 0 | E28: =COUNTIF('Criteria 15'!$B$3:$B$50,"High") -> 0 | F28: =COUNTIF('Criteria 15'!$C$3:$C$50,"Low") -> 0 | G28: =COUNTIF('Criteria 15'!$C$3:$C$50,"Medium") -> 0 | H28: =COUNTIF('Criteria 15'!$C$3:$C$50,"High") -> 0 | I28: =COUNTIF('Criteria 15'!$D$3:$D$50,"Substantial") -> 0 | J28: =COUNTIF('Criteria 15'!$D$3:$D$50,"Reasonable") -> 0 | K28: =COUNTIF('Criteria 15'!$D$3:$D$50,"Limited") -> 0
A29: Total | C29: =SUM(C14:C28) -> 0 | D29: =SUM(D14:D28) -> 0 | E29: =SUM(E14:E28) -> 0 | F29: =SUM(F14:F28) -> 0 | G29: =SUM(G14:G28) -> 0 | H29: =SUM(H14:H28) -> 0 | I29: =SUM(I14:I28) -> 0 | J29: =SUM(J14:J28) -> 0 | K29: =SUM(K14:K28) -> 0

Sheet Criteria 1
A1: =Dashboard!B14 -> Have an operational strategy that is based on a thorough assessment of risk to the community. | B1: Priority | C1: Impact | D1: Level of Assurance | E1: Work assigned to | F1: Projected date for completion | G1: Description of work needing to be done | H1: Evidence
D2: =IF(COUNTIF(D3:D50,"Limited")>0,"Limited",IF(COUNTIF(D3:D50,"Reasonable")>0,"Reasonable","Substantial")) -> Substantial
A3: Task 1/1
A4: Task 1/2
A5: Task 1/3
A6: Task 1/4
A7: Task 1/5
A8: Task 1/6
A9: Task 1/7
A10: Task 1/8
A11: Task 1/9
A12: Task 1/10
A13: Task 1/11

Sheet Criteria 2
A1: =Dashboard!B15 -> Be able to evidence consideration of and actions taken in relation to the below key activities, when preparing and providing an operational response: A. legislative responsibilities; B. data management; C. risk management; D. health and safety management; E. site-specific risk information; F. emergency response plans; G. operational assurance; H. competence and training, including validation and revalidation; I. organisational learning, including operational learning; and J.participation in legal proceedings. | B1: Priority | C1: Impact | D1: Level of Assurance | E1: Work assigned to | F1: Projected date for completion | G1: Description of work needing to be done | H1: Evidence
D2: =IF(COUNTIF(D3:D50,"Limited")>0,"Limited",IF(COUNTIF(D3:D50,"Reasonable")>0,"Reasonable","Substantial")) -> Substantial
A3: Task 2/1
A4: Task 2/2
A5: Task 2/3
A6: Task 2/4
A7: Task 2/5
A8: Task 2/6
A9: Task 2/7
A10: Task 2/8
A11: Task 2/9
A12: Task 2/10

Sheet Criteria 3
A1: =Dashboard!B16 -> Undertake all appropriate risk assessments, as required under legislation, to prepare for an operational response. | B1: Priority | C1: Impact | D1: Level of Assurance | E1: Work assigned to | F1: Projected date for completion | G1: Description of work needing to be done | H1: Evidence
D2: =IF(COUNTIF(D3:D50,"Limited")>0,"Limited",IF(COUNTIF(D3:D50,"Reasonable")>0,"Reasonable","Substantial")) -> Substantial
A3: Task 3/1
A4: Task 3/2
A5: Task 3/3
A6: Task 3/4
A7: Task 3/5
A8: Task 3/6
A9: Task 3/7
A10: Task 3/8
A11: Task 3/9
A12: Task 3/10

Sheet Criteria 4
A1: =Dashboard!B17 -> Review existing cover models, resources, equipment and training against all appropriate risk assessments. | B1: Priority | C1: Impact | D1: Level of Assurance | E1: Work assigned to | F1: Projected date for completion | G1: Description of work needing to be done | H1: Evidence
D2: =IF(COUNTIF(D3:D50,"Limited")>0,"Limited",IF(COUNTIF(D3:D50,"Reasonable")>0,"Reasonable","Substantial")) -> Substantial
A3: Task 4/1
A4: Task 4/2
A5: Task 4/3
A6: Task 4/4
A7: Task 4/5
A8: Task 4/6
A9: Task 4/7
A10: Task 4/8
A11: Task 4/9
A12: Task 4/10

Sheet Criteria 5
A1: =Dashboard!B18 -> Carry out capabilities-based planning to support emergency preparedness and response from a national, regional or local level. | B1: Priority | C1: Impact | D1: Level of Assurance | E1: Work assigned to | F1: Projected date for completion | G1: Description of work needing to be done | H1: Evidence
D2: =IF(COUNTIF(D3:D50,"Limited")>0,"Limited",IF(COUNTIF(D3:D50,"Reasonable")>0,"Reasonable","Substantial")) -> Substantial
A3: Task 5/1
A4: Task 5/2
A5: Task 5/3
A6: Task 5/4
A7: Task 5/5
A8: Task 5/6
A9: Task 5/7
A10: Task 5/8
A11: Task 5/9
A12: Task 5/10

Sheet Criteria 6
A1: =Dashboard!B19 -> Determine its responsibilities for operational response and be fully prepared to deliver them. | B1: Priority | C1: Impact | D1: Level of Assurance | E1: Work assigned to | F1: Projected date for completion | G1: Description of work needing to be done | H1: Evidence
D2: =IF(COUNTIF(D3:D50,"Limited")>0,"Limited",IF(COUNTIF(D3:D50,"Reasonable")>0,"Reasonable","Substantial")) -> Substantial
A3: Task 6/1
A4: Task 6/2
A5: Task 6/3
A6: Task 6/4
A7: Task 6/5
A8: Task 6/6
A9: Task 6/7
A10: Task 6/8
A11: Task 6/9
A12: Task 6/10

Sheet Criteria 7
A1: =Dashboard!B20 -> Have a health and safety policy for the operational and fire control environment that clearly outlines the responsible parties and their obligations. | B1: Priority | C1: Impact | D1: Level of Assurance | E1: Work assigned to | F1: Projected date for completion | G1: Description of work needing to be done | H1: Evidence
D2: =IF(COUNTIF(D3:D50,"Limited")>0,"Limited",IF(COUNTIF(D3:D50,"Reasonable")>0,"Reasonable","Substantial")) -> Substantial
A3: Task 7/1
A4: Task 7/2
A5: Task 7/3
A6: Task 7/4
A7: Task 7/5
A8: Task 7/6
A9: Task 7/7
A10: Task 7/8
A11: Task 7/9
A12: Task 7/10

Sheet Criteria 8
A1: =Dashboard!B21 -> Undertake a review of how the organisation is structured and functions, to confirm its ability to support operational preparedness; if there are any gaps identified there should be a clear plan for making appropriate changes. | B1: Priority | C1: Impact | D1: Level of Assurance | E1: Work assigned to | F1: Projected date for completion | G1: Description of work needing to be done | H1: Evidence
D2: =IF(COUNTIF(D3:D50,"Limited")>0,"Limited",IF(COUNTIF(D3:D50,"Reasonable")>0,"Reasonable","Substantial")) -> Substantial
A3: Task 8/1
A4: Task 8/2
A5: Task 8/3
A6: Task 8/4
A7: Task 8/5
A8: Task 8/6
A9: Task 8/7
A10: Task 8/8
A11: Task 8/9
A12: Task 8/10

Sheet Criteria 9
A1: =Dashboard!B22 -> Develop and embed operational policies, procedures and tailored guidance based on the NFCC Operational Guidance, unless by evidenced exception its content is not relevant to the service. | B1: Priority | C1: Impact | D1: Level of Assurance | E1: Work assigned to | F1: Projected date for completion | G1: Description of work needing to be done | H1: Evidence
D2: =IF(COUNTIF(D3:D50,"Limited")>0,"Limited",IF(COUNTIF(D3:D50,"Reasonable")>0,"Reasonable","Substantial")) -> Substantial
A3: Task 9/1
A4: Task 9/2
A5: Task 9/3
A6: Task 9/4
A7: Task 9/5
A8: Task 9/6
A9: Task 9/7
A10: Task 9/8
A11: Task 9/9
A12: Task 9/10

Sheet Criteria 10
A1: =Dashboard!B23 -> Deliver the strategic actions provided in the suite of NFCC Operational Guidance and Fire Control Guidance frameworks, unless by evidenced exception a strategic action is not relevant to the service; the strategic gap analysis tool may be used to support this process. | B1: Priority | C1: Impact | D1: Level of Assurance | E1: Work assigned to | F1: Projected date for completion | G1: Description of work needing to be done | H1: Evidence
D2: =IF(COUNTIF(D3:D50,"Limited")>0,"Limited",IF(COUNTIF(D3:D50,"Reasonable")>0,"Reasonable","Substantial")) -> Substantial
A3: Task 10/1
A4: Task 10/2
A5: Task 10/3
A6: Task 10/4
A7: Task 10/5
A8: Task 10/6
A9: Task 10/7
A10: Task 10/8
A11: Task 10/9
A12: Task 10/10

Sheet Criteria 11
A1: =Dashboard!B24 -> Train its operational and fire control employees to carry out operational activities safely and effectively; this includes the ability to recognise hazards and use control measures to reduce the risks arising from those hazards. | B1: Priority | C1: Impact | D1: Level of Assurance | E1: Work assigned to | F1: Projected date for completion | G1: Description of work needing to be done | H1: Evidence
D2: =IF(COUNTIF(D3:D50,"Limited")>0,"Limited",IF(COUNTIF(D3:D50,"Reasonable")>0,"Reasonable","Substantial")) -> Substantial
A3: Task 11/1
A4: Task 11/2
A5: Task 11/3
A6: Task 11/4
A7: Task 11/5
A8: Task 11/6
A9: Task 11/7
A10: Task 11/8
A11: Task 11/9
A12: Task 11/10

Sheet Criteria 12
A1: =Dashboard!B25 -> Align relevant policies, procedures and tailored guidance in preparation for working with other fire and rescue services, National Resilience, other Category 1 and Category 2 responders and Local Resilience Forums, to improve its operational response to multi-agency incidents. | B1: Priority | C1: Impact | D1: Level of Assurance | E1: Work assigned to | F1: Projected date for completion | G1: Description of work needing to be done | H1: Evidence
D2: =IF(COUNTIF(D3:D50,"Limited")>0,"Limited",IF(COUNTIF(D3:D50,"Reasonable")>0,"Reasonable","Substantial")) -> Substantial
A3: Task 12/1
A4: Task 12/2
A5: Task 12/3
A6: Task 12/4
A7: Task 12/5
A8: Task 12/6
A9: Task 12/7
A10: Task 12/8
A11: Task 12/9
A12: Task 12/10

Sheet Criteria 13
A1: =Dashboard!B26 -> Have processes in place for capturing learning: A. at incidents B. post-incident C. as a result of training exercises undertaken both internally and multi-agency / cross border D. as a result of near miss or accident investigations that may be relevant to operational response E. from any other sources | B1: Priority | C1: Impact | D1: Level of Assurance | E1: Work assigned to | F1: Projected date for completion | G1: Description of work needing to be done | H1: Evidence
D2: =IF(COUNTIF(D3:D50,"Limited")>0,"Limited",IF(COUNTIF(D3:D50,"Reasonable")>0,"Reasonable","Substantial")) -> Substantial
A3: Task 13/1
A4: Task 13/2
A5: Task 13/3
A6: Task 13/4
A7: Task 13/5
A8: Task 13/6
A9: Task 13/7
A10: Task 13/8
A11: Task 13/9
A12: Task 13/10

Sheet Criteria 14
A1: =Dashboard!B27 -> Use the Training Specifications to inform its training needs analysis. | B1: Priority | C1: Impact | D1: Level of Assurance | E1: Work assigned to | F1: Projected date for completion | G1: Description of work needing to be done | H1: Evidence
D2: =IF(COUNTIF(D3:D50,"Limited")>0,"Limited",IF(COUNTIF(D3:D50,"Reasonable")>0,"Reasonable","Substantial")) -> Substantial
A3: Task 14/1
A4: Task 14/2
A5: Task 14/3
A6: Task 14/4
A7: Task 14/5
A8: Task 14/6
A9: Task 14/7
A10: Task 14/8
A11: Task 14/9
A12: Task 14/10

Sheet Criteria 15
A1: =Dashboard!B28 -> Work within regional, national or thematic groups to develop and improve its policies, procedures, tailored guidance and training for operational response. | B1: Priority | C1: Impact | D1: Level of Assurance | E1: Work assigned to | F1: Projected date for completion | G1: Description of work needing to be done | H1: Evidence
D2: =IF(COUNTIF(D3:D50,"Limited")>0,"Limited",IF(COUNTIF(D3:D50,"Reasonable")>0,"Reasonable","Substantial")) -> Substantial
A3: Task 15/1
A4: Task 15/2
A5: Task 15/3
A6: Task 15/4
A7: Task 15/5
A8: Task 15/6
A9: Task 15/7
A10: Task 15/8
A11: Task 15/9
A12: Task 15/10
