Workbook

Sheet Lists
A1: Priority | B1: Impact | C1: Level of Assurance
A2: High | B2: High | C2: Substantial
A3: Medium | B3: Medium | C3: Reasonable
A4: Low | B4: Low | C4: Limited
D7: Criteria 1 | E7: Criteria 2 | F7: Criteria 3 | G7: Criteria 4 | H7: Criteria 5 | I7: Criteria 6 | J7: Criteria 7 | K7: Criteria 8 | L7: Criteria 9 | M7: Criteria 10 | N7: Criteria 11 | O7: Criteria 12 | P7: Criteria 13 | Q7: Criteria 14 | R7: Criteria 15 | S7: Criteria 16
D8: =IF('Criteria 1'!$D$2="Substantial",1,IF('Criteria 1'!$D$2="Reasonable",2,IF('Criteria 1'!$D$2="Limited",3,0))) -> 1 | E8: =IF('Criteria 2'!$D$2="Substantial",1,IF('Criteria 2'!$D$2="Reasonable",2,IF('Criteria 2'!$D$2="Limited",3,0))) -> 1 | F8: =IF('Criteria 3'!$D$2="Substantial",1,IF('Criteria 3'!$D$2="Reasonable",2,IF('Criteria 3'!$D$2="Limited",3,0))) -> 1 | G8: =IF('Criteria 4'!$D$2="Substantial",1,IF('Criteria 4'!$D$2="Reasonable",2,IF('Criteria 4'!$D$2="Limited",3,0))) -> 1 | H8: =IF('Criteria 5'!$D$2="Substantial",1,IF('Criteria 5'!$D$2="Reasonable",2,IF('Criteria 5'!$D$2="Limited",3,0))) -> 1 | I8: =IF('Criteria 6'!$D$2="Substantial",1,IF('Criteria 6'!$D$2="Reasonable",2,IF('Criteria 6'!$D$2="Limited",3,0))) -> 1 | J8: =IF('Criteria 7'!$D$2="Substantial",1,IF('Criteria 7'!$D$2="Reasonable",2,IF('Criteria 7'!$D$2="Limited",3,0))) -> 1 | K8: =IF('Criteria 8'!$D$2="Substantial",1,IF('Criteria 8'!$D$2="Reasonable",2,IF('Criteria 8'!$D$2="Limited",3,0))) -> 1 | L8: =IF('Criteria 9'!$D$2="Substantial",1,IF('Criteria 9'!$D$2="Reasonable",2,IF('Criteria 9'!$D$2="Limited",3,0))) -> 1 | M8: =IF('Criteria 10'!$D$2="Substantial",1,IF('Criteria 10'!$D$2="Reasonable",2,IF('Criteria 10'!$D$2="Limited",3,0))) -> 1 | N8: =IF('Criteria 11'!$D$2="Substantial",1,IF('Criteria 11'!$D$2="Reasonable",2,IF('Criteria 11'!$D$2="Limited",3,0))) -> 1 | O8: =IF(#REF!="Substantial",1,IF(#REF!="Reasonable",2,IF(#REF!="Limited",3,0))) -> #REF! | P8: =IF(#REF!="Substantial",1,IF(#REF!="Reasonable",2,IF(#REF!="Limited",3,0))) -> #REF! | Q8: =IF(#REF!="Substantial",1,IF(#REF!="Reasonable",2,IF(#REF!="Limited",3,0))) -> #REF! | R8: =IF(#REF!="Substantial",1,IF(#REF!="Reasonable",2,IF(#REF!="Limited",3,0))) -> #REF! | S8: =IF(#REF!="Substantial",1,IF(#REF!="Reasonable",2,IF(#REF!="Limited",3,0))) -> #REF!
D10: Substantial | E10: =COUNTIF($D$8:$T$8,1) -> 11
D11: Reasonable | E11: =COUNTIF($D$8:$T$8,2) -> 0
D12: Limited | E12: =COUNTIF($D$8:$T$8,3) -> 0

Sheet Instructions

Sheet 3xAssurance
B1: =Dashboard!I4 -> Leading the Service | C1: Risk Based Approach
A2: Criteria | B2: Description | C2: Priority | D2: Impact | E2: First Line | F2: Second Line | G2: Third Line | H2: Notes and Actions
E3: Front line or business operational controls e.g: Policy, procedures, guidance Performance dashboards Monitoring statistics Localised risk registers Routine reports PDRs | F3: Management oversight activity e.g: Corporate governance and performance reporting Change management assurance and highlight reporting Ops assurance, assessments Debriefs Submitting learning tool entries and subsequent actions Evaluations and benefit reviews Other departmental self assessments / routine checks | G3: Independent external assurance e.g: HMICFRS Inspection Programme Internal audit Home Office data returns and benchmarking Peer reviews External audit Consultancy | H3: Any gaps outlined in the AFIs or HMICFRS that are addressed here? Any fit to existing action plans? Other pertinent links to assure this criteria?
A4: =Dashboard!A14 -> 1 | B4: =Dashboard!B14 -> make clear the vision and strategic objectives for the service, which are available to and understood by all
A5: =Dashboard!A15 -> 2 | B5: =Dashboard!B15 -> apply the principles of Organisational Learning to evaluate and continually improve what they do and how they do it for the benefit of the public and the service by: a. looking forward, enabling it to identify emerging opportunities, challenges, risks and developments; b. exploring opportunities to evolve and improve ways of working through innovative thinking and action; c. coordinating their organisational development through integrating their functional improvement and change action plans to inform strategic planning; and d. maximising opportunities to learn and innovate either from within or through collaboration with others.
A6: =Dashboard!A16 -> 3 | B6: =Dashboard!B16 -> carry out strategic planning activities so that it: a. understands its local risk profile and considers and puts in place appropriate mitigations to be able to respond to: i. the risks faced by, and incidents in, its local community; and ii. local, regional and national scale emergencies, working as a single service or collaboratively with partners or as part of a multi-agency response. b. undertakes robust workforce planning to: i. understand its capabilities so that it can deploy its resources effectively; ii. identify and manage potential and talent; and iii. attract and maintain a competent and diverse workforce. c. aligns its finances to its strategic plans, risk profile and vision, whilst ensuring it remains financially viable, sustainable and delivers value for money for its community; d. understands and plans for the ongoing maintenance of its assets, including estates, fleet and ICT; e. identifies, understands and manages its corporate risks; f. can understand its environmental impacts and put actions in place to reduce or mitigate them, or both; g. has appropriate business continuity plans in place so that it is resilient and able to function during times of disruption; h. maintains adequate technology to support the service; i. identifies and collects the right data to support effective and informed decision making, in a timely manner; and j. supports good governance, assigning clear responsibilities, roles and accountabilities and provides assurance about its organisational performance
A7: =Dashboard!A17 -> 4 | B7: =Dashboard!B17 -> have a strategic approach to communication, engagement and consultation which includes clear principles about how the organisation will communicate with its audiences, linked to the values of the service and the Code of Ethics Fire Standard
A8: =Dashboard!A18 -> 5 | B8: =Dashboard!B18 -> put controls and processes in place so that it can effectively monitor, manage and report on: a. finances; b. commercial activities and procurement; c. corporate risks; d. assets, with due consideration of whole life cycle and disposal; e. organisational performance; f. compliance with legislation and statutory responsibilities; g. communication, engagement and consultation; h. talent management, organisational development, and change; and i. disciplinaries, grievances, complaints, staff disclosures and whistle blowing
A9: =Dashboard!A19 -> 6 | B9: =Dashboard!B19 -> have provision for accessing legal and other specialist advice to inform the day-to-day operation of the service
A10: =Dashboard!A20 -> 7 | B10: =Dashboard!B20 -> have leaders at all levels that: a. are accountable for the success of their service in: i. delivering its vision and strategic objectives; ii. complying with legislation, statutory requirements and industry standards; iii. aligning their service to the Fire Standards and any other relevant professional standards; and iv. upholding and enhancing the high reputation of the service in all they do. b. are politically aware, open to scrutiny and understand both the national and local challenges facing their service and others; c. are open-minded, open to learning and actively monitor the environment they operate in to enable them to work with agility and foresight; d. embody, role model and actively promote: i. an environment that creates and maintains trust throughout the service; ii. the leadership behaviours set out in the NFCC Leadership Framework; and iii. the ethical behaviours set out in the Core Code of Ethics. e. relate to others effectively and constructively because of their emotional intelligence; f. demonstrate and encourage in others excellent communication skills, welcoming feedback from all; g. use their effective influencing skills to develop and maintain positive and constructive relationships with: i. staff representative bodies to develop and foster a positive industrial relations climate that builds trust and facilitates change; and ii. partners and stakeholders to deliver excellence to the community. h. are technologically and data literate, who understand the importance of data and how to interpret it to support their planning and decision making i. able to budget responsibly to contribute to an efficiently run service
A11: =Dashboard!A21 -> 8 | B11: =Dashboard!B21 -> provide comprehensive, accurate and data driven reporting
A12: =Dashboard!A22 -> 9 | B12: =Dashboard!B22 -> recognise when it may need support and draw on the appropriate networks, national guidance and tools to support its own organisational development
A13: =Dashboard!A23 -> 10 | B13: =Dashboard!B23 -> maximise opportunities gained from supporting the National Fire Chiefs Council (NFCC) network by sharing learning and experiences, collaborating with others and contributing to the continual improvement of the service
A14: =Dashboard!A24 -> 11 | B14: =Dashboard!B24 -> engage regionally and nationally with peers, partners and stakeholders, collaborating where appropriate

Sheet Dashboard
E4: Fire Standard: | I4: Leading the Service
B6: Please fill in the contact details below: | I6: Overall Level of Assurance with Standard
B7: Fire and Rescue Service
B8: Contact Name
B9: Contact Email Address
B10: Contact Phone Number
A12: Criteria | B12: Description | C12: Priority | F12: Impact | I12: Level of Assurance
C13: Low | D13: Medium | E13: High | F13: Low | G13: Medium | H13: High | I13: Substantial | J13: Reasonable | K13: Limited | L13: Chart
A14: 1 | B14: make clear the vision and strategic objectives for the service, which are available to and understood by all | C14: =COUNTIF('Criteria 1'!$B$3:$B$50,"Low") -> 0 | D14: =COUNTIF('Criteria 1'!$B$3:$B$50,"Medium") -> 0 | E14: =COUNTIF('Criteria 1'!$B$3:$B$50,"High") -> 0 | F14: =COUNTIF('Criteria 1'!$C$3:$C$50,"Low") -> 0 | G14: =COUNTIF('Criteria 1'!$C$3:$C$50,"Medium") -> 0 | H14: =COUNTIF('Criteria 1'!$C$3:$C$50,"High") -> 0 | I14: =COUNTIF('Criteria 1'!$D$3:$D$50,"Substantial") -> 0 | J14: =COUNTIF('Criteria 1'!$D$3:$D$50,"Reasonable") -> 0 | K14: =COUNTIF('Criteria 1'!$D$3:$D$50,"Limited") -> 0
A15: 2 | B15: apply the principles of Organisational Learning to evaluate and continually improve what they do and how they do it for the benefit of the public and the service by: a. looking forward, enabling it to identify emerging opportunities, challenges, risks and developments; b. exploring opportunities to evolve and improve ways of working through innovative thinking and action; c. coordinating their organisational development through integrating their functional improvement and change action plans to inform strategic planning; and d. maximising opportunities to learn and innovate either from within or through collaboration with others. | C15: =COUNTIF('Criteria 2'!$B$3:$B$50,"Low") -> 0 | D15: =COUNTIF('Criteria 2'!$B$3:$B$50,"Medium") -> 0 | E15: =COUNTIF('Criteria 2'!$B$3:$B$50,"High") -> 0 | F15: =COUNTIF('Criteria 2'!$C$3:$C$50,"Low") -> 0 | G15: =COUNTIF('Criteria 2'!$C$3:$C$50,"Medium") -> 0 | H15: =COUNTIF('Criteria 2'!$C$3:$C$50,"High") -> 0 | I15: =COUNTIF('Criteria 2'!$D$3:$D$50,"Substantial") -> 0 | J15: =COUNTIF('Criteria 2'!$D$3:$D$50,"Reasonable") -> 0 | K15: =COUNTIF('Criteria 2'!$D$3:$D$50,"Limited") -> 0
A16: 3 | B16: carry out strategic planning activities so that it: a. understands its local risk profile and considers and puts in place appropriate mitigations to be able to respond to: i. the risks faced by, and incidents in, its local community; and ii. local, regional and national scale emergencies, working as a single service or collaboratively with partners or as part of a multi-agency response. b. undertakes robust workforce planning to: i. understand its capabilities so that it can deploy its resources effectively; ii. identify and manage potential and talent; and iii. attract and maintain a competent and diverse workforce. c. aligns its finances to its strategic plans, risk profile and vision, whilst ensuring it remains financially viable, sustainable and delivers value for money for its community; d. understands and plans for the ongoing maintenance of its assets, including estates, fleet and ICT; e. identifies, understands and manages its corporate risks; f. can understand its environmental impacts and put actions in place to reduce or mitigate them, or both; g. has appropriate business continuity plans in place so that it is resilient and able to function during times of disruption; h. maintains adequate technology to support the service; i. identifies and collects the right data to support effective and informed decision making, in a timely manner; and j. supports good governance, assigning clear responsibilities, roles and accountabilities and provides assurance about its organisational performance | C16: =COUNTIF('Criteria 3'!$B$3:$B$50,"Low") -> 0 | D16: =COUNTIF('Criteria 3'!$B$3:$B$50,"Medium") -> 0 | E16: =COUNTIF('Criteria 3'!$B$3:$B$50,"High") -> 0 | F16: =COUNTIF('Criteria 3'!$C$3:$C$50,"Low") -> 0 | G16: =COUNTIF('Criteria 3'!$C$3:$C$50,"Medium") -> 0 | H16: =COUNTIF('Criteria 3'!$C$3:$C$50,"High") -> 0 | I16: =COUNTIF('Criteria 3'!$D$3:$D$50,"Substantial") -> 0 | J16: =COUNTIF('Criteria 3'!$D$3:$D$50,"Reasonable") -> 0 | K16: =COUNTIF('Criteria 3'!$D$3:$D$50,"Limited") -> 0
A17: 4 | B17: have a strategic approach to communication, engagement and consultation which includes clear principles about how the organisation will communicate with its audiences, linked to the values of the service and the Code of Ethics Fire Standard | C17: =COUNTIF('Criteria 4'!$B$3:$B$50,"Low") -> 0 | D17: =COUNTIF('Criteria 4'!$B$3:$B$50,"Medium") -> 0 | E17: =COUNTIF('Criteria 4'!$B$3:$B$50,"High") -> 0 | F17: =COUNTIF('Criteria 4'!$C$3:$C$50,"Low") -> 0 | G17: =COUNTIF('Criteria 4'!$C$3:$C$50,"Medium") -> 0 | H17: =COUNTIF('Criteria 4'!$C$3:$C$50,"High") -> 0 | I17: =COUNTIF('Criteria 4'!$D$3:$D$50,"Substantial") -> 0 | J17: =COUNTIF('Criteria 4'!$D$3:$D$50,"Reasonable") -> 0 | K17: =COUNTIF('Criteria 4'!$D$3:$D$50,"Limited") -> 0
A18: 5 | B18: put controls and processes in place so that it can effectively monitor, manage and report on: a. finances; b. commercial activities and procurement; c. corporate risks; d. assets, with due consideration of whole life cycle and disposal; e. organisational performance; f. compliance with legislation and statutory responsibilities; g. communication, engagement and consultation; h. talent management, organisational development, and change; and i. disciplinaries, grievances, complaints, staff disclosures and whistle blowing | C18: =COUNTIF('Criteria 5'!$B$3:$B$50,"Low") -> 0 | D18: =COUNTIF('Criteria 5'!$B$3:$B$50,"Medium") -> 0 | E18: =COUNTIF('Criteria 5'!$B$3:$B$50,"High") -> 0 | F18: =COUNTIF('Criteria 5'!$C$3:$C$50,"Low") -> 0 | G18: =COUNTIF('Criteria 5'!$C$3:$C$50,"Medium") -> 0 | H18: =COUNTIF('Criteria 5'!$C$3:$C$50,"High") -> 0 | I18: =COUNTIF('Criteria 5'!$D$3:$D$50,"Substantial") -> 0 | J18: =COUNTIF('Criteria 5'!$D$3:$D$50,"Reasonable") -> 0 | K18: =COUNTIF('Criteria 5'!$D$3:$D$50,"Limited") -> 0
A19: 6 | B19: have provision for accessing legal and other specialist advice to inform the day-to-day operation of the service | C19: =COUNTIF('Criteria 6'!$B$3:$B$50,"Low") -> 0 | D19: =COUNTIF('Criteria 6'!$B$3:$B$50,"Medium") -> 0 | E19: =COUNTIF('Criteria 6'!$B$3:$B$50,"High") -> 0 | F19: =COUNTIF('Criteria 6'!$C$3:$C$50,"Low") -> 0 | G19: =COUNTIF('Criteria 6'!$C$3:$C$50,"Medium") -> 0 | H19: =COUNTIF('Criteria 6'!$C$3:$C$50,"High") -> 0 | I19: =COUNTIF('Criteria 6'!$D$3:$D$50,"Substantial") -> 0 | J19: =COUNTIF('Criteria 6'!$D$3:$D$50,"Reasonable") -> 0 | K19: =COUNTIF('Criteria 6'!$D$3:$D$50,"Limited") -> 0
A20: 7 | B20: have leaders at all levels that: a. are accountable for the success of their service in: i. delivering its vision and strategic objectives; ii. complying with legislation, statutory requirements and industry standards; iii. aligning their service to the Fire Standards and any other relevant professional standards; and iv. upholding and enhancing the high reputation of the service in all they do. b. are politically aware, open to scrutiny and understand both the national and local challenges facing their service and others; c. are open-minded, open to learning and actively monitor the environment they operate in to enable them to work with agility and foresight; d. embody, role model and actively promote: i. an environment that creates and maintains trust throughout the service; ii. the leadership behaviours set out in the NFCC Leadership Framework; and iii. the ethical behaviours set out in the Core Code of Ethics. e. relate to others effectively and constructively because of their emotional intelligence; f. demonstrate and encourage in others excellent communication skills, welcoming feedback from all; g. use their effective influencing skills to develop and maintain positive and constructive relationships with: i. staff representative bodies to develop and foster a positive industrial relations climate that builds trust and facilitates change; and ii. partners and stakeholders to deliver excellence to the community. h. are technologically and data literate, who understand the importance of data and how to interpret it to support their planning and decision making i. able to budget responsibly to contribute to an efficiently run service | C20: =COUNTIF('Criteria 7'!$B$3:$B$50,"Low") -> 0 | D20: =COUNTIF('Criteria 7'!$B$3:$B$50,"Medium") -> 0 | E20: =COUNTIF('Criteria 7'!$B$3:$B$50,"High") -> 0 | F20: =COUNTIF('Criteria 7'!$C$3:$C$50,"Low") -> 0 | G20: =COUNTIF('Criteria 7'!$C$3:$C$50,"Medium") -> 0 | H20: =COUNTIF('Criteria 7'!$C$3:$C$50,"High") -> 0 | I20: =COUNTIF('Criteria 7'!$D$3:$D$50,"Substantial") -> 0 | J20: =COUNTIF('Criteria 7'!$D$3:$D$50,"Reasonable") -> 0 | K20: =COUNTIF('Criteria 7'!$D$3:$D$50,"Limited") -> 0
A21: 8 | B21: provide comprehensive, accurate and data driven reporting | C21: =COUNTIF('Criteria 8'!$B$3:$B$50,"Low") -> 0 | D21: =COUNTIF('Criteria 8'!$B$3:$B$50,"Medium") -> 0 | E21: =COUNTIF('Criteria 8'!$B$3:$B$50,"High") -> 0 | F21: =COUNTIF('Criteria 8'!$C$3:$C$50,"Low") -> 0 | G21: =COUNTIF('Criteria 8'!$C$3:$C$50,"Medium") -> 0 | H21: =COUNTIF('Criteria 8'!$C$3:$C$50,"High") -> 0 | I21: =COUNTIF('Criteria 8'!$D$3:$D$50,"Substantial") -> 0 | J21: =COUNTIF('Criteria 8'!$D$3:$D$50,"Reasonable") -> 0 | K21: =COUNTIF('Criteria 8'!$D$3:$D$50,"Limited") -> 0
A22: 9 | B22: recognise when it may need support and draw on the appropriate networks, national guidance and tools to support its own organisational development | C22: =COUNTIF('Criteria 9'!$B$3:$B$50,"Low") -> 0 | D22: =COUNTIF('Criteria 9'!$B$3:$B$50,"Medium") -> 0 | E22: =COUNTIF('Criteria 9'!$B$3:$B$50,"High") -> 0 | F22: =COUNTIF('Criteria 9'!$C$3:$C$50,"Low") -> 0 | G22: =COUNTIF('Criteria 9'!$C$3:$C$50,"Medium") -> 0 | H22: =COUNTIF('Criteria 9'!$C$3:$C$50,"High") -> 0 | I22: =COUNTIF('Criteria 9'!$D$3:$D$50,"Substantial") -> 0 | J22: =COUNTIF('Criteria 9'!$D$3:$D$50,"Reasonable") -> 0 | K22: =COUNTIF('Criteria 9'!$D$3:$D$50,"Limited") -> 0
A23: 10 | B23: maximise opportunities gained from supporting the National Fire Chiefs Council (NFCC) network by sharing learning and experiences, collaborating with others and contributing to the continual improvement of the service | C23: =COUNTIF('Criteria 10'!$B$3:$B$50,"Low") -> 0 | D23: =COUNTIF('Criteria 10'!$B$3:$B$50,"Medium") -> 0 | E23: =COUNTIF('Criteria 10'!$B$3:$B$50,"High") -> 0 | F23: =COUNTIF('Criteria 10'!$C$3:$C$50,"Low") -> 0 | G23: =COUNTIF('Criteria 10'!$C$3:$C$50,"Medium") -> 0 | H23: =COUNTIF('Criteria 10'!$C$3:$C$50,"High") -> 0 | I23: =COUNTIF('Criteria 10'!$D$3:$D$50,"Substantial") -> 0 | J23: =COUNTIF('Criteria 10'!$D$3:$D$50,"Reasonable") -> 0 | K23: =COUNTIF('Criteria 10'!$D$3:$D$50,"Limited") -> 0
A24: 11 | B24: engage regionally and nationally with peers, partners and stakeholders, collaborating where appropriate | C24: =COUNTIF('Criteria 11'!$B$3:$B$50,"Low") -> 0 | D24: =COUNTIF('Criteria 11'!$B$3:$B$50,"Medium") -> 0 | E24: =COUNTIF('Criteria 11'!$B$3:$B$50,"High") -> 0 | F24: =COUNTIF('Criteria 11'!$C$3:$C$50,"Low") -> 0 | G24: =COUNTIF('Criteria 11'!$C$3:$C$50,"Medium") -> 0 | H24: =COUNTIF('Criteria 11'!$C$3:$C$50,"High") -> 0 | I24: =COUNTIF('Criteria 11'!$D$3:$D$50,"Substantial") -> 0 | J24: =COUNTIF('Criteria 11'!$D$3:$D$50,"Reasonable") -> 0 | K24: =COUNTIF('Criteria 11'!$D$3:$D$50,"Limited") -> 0
A25: Total | C25: =SUM(C14:C24) -> 0 | D25: =SUM(D14:D24) -> 0 | E25: =SUM(E14:E24) -> 0 | F25: =SUM(F14:F24) -> 0 | G25: =SUM(G14:G24) -> 0 | H25: =SUM(H14:H24) -> 0 | I25: =SUM(I14:I24) -> 0 | J25: =SUM(J14:J24) -> 0 | K25: =SUM(K14:K24) -> 0

Sheet Criteria 1
A1: =Dashboard!B14 -> make clear the vision and strategic objectives for the service, which are available to and understood by all | B1: Priority | C1: Impact | D1: Level of Assurance | E1: Work assigned to | F1: Projected date for completion | G1: Description of work needing to be done | H1: Evidence
D2: =IF(COUNTIF(D3:D50,"Limited")>0,"Limited",IF(COUNTIF(D3:D50,"Reasonable")>0,"Reasonable","Substantial")) -> Substantial
A3: Task 1/1
A4: Task 1/2
A5: Task 1/3
A6: Task 1/4
A7: Task 1/5
A8: Task 1/6
A9: Task 1/7
A10: Task 1/8
A11: Task 1/9
A12: Task 1/10
A13: Task 1/11

Sheet Criteria 2
A1: =Dashboard!B15 -> apply the principles of Organisational Learning to evaluate and continually improve what they do and how they do it for the benefit of the public and the service by: a. looking forward, enabling it to identify emerging opportunities, challenges, risks and developments; b. exploring opportunities to evolve and improve ways of working through innovative thinking and action; c. coordinating their organisational development through integrating their functional improvement and change action plans to inform strategic planning; and d. maximising opportunities to learn and innovate either from within or through collaboration with others. | B1: Priority | C1: Impact | D1: Level of Assurance | E1: Work assigned to | F1: Projected date for completion | G1: Description of work needing to be done | H1: Evidence
D2: =IF(COUNTIF(D3:D50,"Limited")>0,"Limited",IF(COUNTIF(D3:D50,"Reasonable")>0,"Reasonable","Substantial")) -> Substantial
A3: Task 2/1
A4: Task 2/2
A5: Task 2/3
A6: Task 2/4
A7: Task 2/5
A8: Task 2/6
A9: Task 2/7
A10: Task 2/8
A11: Task 2/9
A12: Task 2/10

Sheet Criteria 3
A1: =Dashboard!B16 -> carry out strategic planning activities so that it: a. understands its local risk profile and considers and puts in place appropriate mitigations to be able to respond to: i. the risks faced by, and incidents in, its local community; and ii. local, regional and national scale emergencies, working as a single service or collaboratively with partners or as part of a multi-agency response. b. undertakes robust workforce planning to: i. understand its capabilities so that it can deploy its resources effectively; ii. identify and manage potential and talent; and iii. attract and maintain a competent and diverse workforce. c. aligns its finances to its strategic plans, risk profile and vision, whilst ensuring it remains financially viable, sustainable and delivers value for money for its community; d. understands and plans for the ongoing maintenance of its assets, including estates, fleet and ICT; e. identifies, understands and manages its corporate risks; f. can understand its environmental impacts and put actions in place to reduce or mitigate them, or both; g. has appropriate business continuity plans in place so that it is resilient and able to function during times of disruption; h. maintains adequate technology to support the service; i. identifies and collects the right data to support effective and informed decision making, in a timely manner; and j. supports good governance, assigning clear responsibilities, roles and accountabilities and provides assurance about its organisational performance | B1: Priority | C1: Impact | D1: Level of Assurance | E1: Work assigned to | F1: Projected date for completion | G1: Description of work needing to be done | H1: Evidence
D2: =IF(COUNTIF(D3:D50,"Limited")>0,"Limited",IF(COUNTIF(D3:D50,"Reasonable")>0,"Reasonable","Substantial")) -> Substantial
A3: Task 3/1
A4: Task 3/2
A5: Task 3/3
A6: Task 3/4
A7: Task 3/5
A8: Task 3/6
A9: Task 3/7
A10: Task 3/8
A11: Task 3/9
A12: Task 3/10

Sheet Criteria 4
A1: =Dashboard!B17 -> have a strategic approach to communication, engagement and consultation which includes clear principles about how the organisation will communicate with its audiences, linked to the values of the service and the Code of Ethics Fire Standard | B1: Priority | C1: Impact | D1: Level of Assurance | E1: Work assigned to | F1: Projected date for completion | G1: Description of work needing to be done | H1: Evidence
D2: =IF(COUNTIF(D3:D50,"Limited")>0,"Limited",IF(COUNTIF(D3:D50,"Reasonable")>0,"Reasonable","Substantial")) -> Substantial
A3: Task 4/1
A4: Task 4/2
A5: Task 4/3
A6: Task 4/4
A7: Task 4/5
A8: Task 4/6
A9: Task 4/7
A10: Task 4/8
A11: Task 4/9
A12: Task 4/10

Sheet Criteria 5
A1: =Dashboard!B18 -> put controls and processes in place so that it can effectively monitor, manage and report on: a. finances; b. commercial activities and procurement; c. corporate risks; d. assets, with due consideration of whole life cycle and disposal; e. organisational performance; f. compliance with legislation and statutory responsibilities; g. communication, engagement and consultation; h. talent management, organisational development, and change; and i. disciplinaries, grievances, complaints, staff disclosures and whistle blowing | B1: Priority | C1: Impact | D1: Level of Assurance | E1: Work assigned to | F1: Projected date for completion | G1: Description of work needing to be done | H1: Evidence
D2: =IF(COUNTIF(D3:D50,"Limited")>0,"Limited",IF(COUNTIF(D3:D50,"Reasonable")>0,"Reasonable","Substantial")) -> Substantial
A3: Task 5/1
A4: Task 5/2
A5: Task 5/3
A6: Task 5/4
A7: Task 5/5
A8: Task 5/6
A9: Task 5/7
A10: Task 5/8
A11: Task 5/9
A12: Task 5/10

Sheet Criteria 6
A1: =Dashboard!B19 -> have provision for accessing legal and other specialist advice to inform the day-to-day operation of the service | B1: Priority | C1: Impact | D1: Level of Assurance | E1: Work assigned to | F1: Projected date for completion | G1: Description of work needing to be done | H1: Evidence
D2: =IF(COUNTIF(D3:D50,"Limited")>0,"Limited",IF(COUNTIF(D3:D50,"Reasonable")>0,"Reasonable","Substantial")) -> Substantial
A3: Task 6/1
A4: Task 6/2
A5: Task 6/3
A6: Task 6/4
A7: Task 6/5
A8: Task 6/6
A9: Task 6/7
A10: Task 6/8
A11: Task 6/9
A12: Task 6/10

Sheet Criteria 7
A1: =Dashboard!B20 -> have leaders at all levels that: a. are accountable for the success of their service in: i. delivering its vision and strategic objectives; ii. complying with legislation, statutory requirements and industry standards; iii. aligning their service to the Fire Standards and any other relevant professional standards; and iv. upholding and enhancing the high reputation of the service in all they do. b. are politically aware, open to scrutiny and understand both the national and local challenges facing their service and others; c. are open-minded, open to learning and actively monitor the environment they operate in to enable them to work with agility and foresight; d. embody, role model and actively promote: i. an environment that creates and maintains trust throughout the service; ii. the leadership behaviours set out in the NFCC Leadership Framework; and iii. the ethical behaviours set out in the Core Code of Ethics. e. relate to others effectively and constructively because of their emotional intelligence; f. demonstrate and encourage in others excellent communication skills, welcoming feedback from all; g. use their effective influencing skills to develop and maintain positive and constructive relationships with: i. staff representative bodies to develop and foster a positive industrial relations climate that builds trust and facilitates change; and ii. partners and stakeholders to deliver excellence to the community. h. are technologically and data literate, who understand the importance of data and how to interpret it to support their planning and decision making i. able to budget responsibly to contribute to an efficiently run service | B1: Priority | C1: Impact | D1: Level of Assurance | E1: Work assigned to | F1: Projected date for completion | G1: Description of work needing to be done | H1: Evidence
D2: =IF(COUNTIF(D3:D50,"Limited")>0,"Limited",IF(COUNTIF(D3:D50,"Reasonable")>0,"Reasonable","Substantial")) -> Substantial
A3: Task 7/1
A4: Task 7/2
A5: Task 7/3
A6: Task 7/4
A7: Task 7/5
A8: Task 7/6
A9: Task 7/7
A10: Task 7/8
A11: Task 7/9
A12: Task 7/10

Sheet Criteria 8
A1: =Dashboard!B21 -> provide comprehensive, accurate and data driven reporting | B1: Priority | C1: Impact | D1: Level of Assurance | E1: Work assigned to | F1: Projected date for completion | G1: Description of work needing to be done | H1: Evidence
D2: =IF(COUNTIF(D3:D50,"Limited")>0,"Limited",IF(COUNTIF(D3:D50,"Reasonable")>0,"Reasonable","Substantial")) -> Substantial
A3: Task 8/1
A4: Task 8/2
A5: Task 8/3
A6: Task 8/4
A7: Task 8/5
A8: Task 8/6
A9: Task 8/7
A10: Task 8/8
A11: Task 8/9
A12: Task 8/10

Sheet Criteria 9
A1: =Dashboard!B22 -> recognise when it may need support and draw on the appropriate networks, national guidance and tools to support its own organisational development | B1: Priority | C1: Impact | D1: Level of Assurance | E1: Work assigned to | F1: Projected date for completion | G1: Description of work needing to be done | H1: Evidence
D2: =IF(COUNTIF(D3:D50,"Limited")>0,"Limited",IF(COUNTIF(D3:D50,"Reasonable")>0,"Reasonable","Substantial")) -> Substantial
A3: Task 9/1
A4: Task 9/2
A5: Task 9/3
A6: Task 9/4
A7: Task 9/5
A8: Task 9/6
A9: Task 9/7
A10: Task 9/8
A11: Task 9/9
A12: Task 9/10

Sheet Criteria 10
A1: =Dashboard!B23 -> maximise opportunities gained from supporting the National Fire Chiefs Council (NFCC) network by sharing learning and experiences, collaborating with others and contributing to the continual improvement of the service | B1: Priority | C1: Impact | D1: Level of Assurance | E1: Work assigned to | F1: Projected date for completion | G1: Description of work needing to be done | H1: Evidence
D2: =IF(COUNTIF(D3:D50,"Limited")>0,"Limited",IF(COUNTIF(D3:D50,"Reasonable")>0,"Reasonable","Substantial")) -> Substantial
A3: Task 10/1
A4: Task 10/2
A5: Task 10/3
A6: Task 10/4
A7: Task 10/5
A8: Task 10/6
A9: Task 10/7
A10: Task 10/8
A11: Task 10/9
A12: Task 10/10

Sheet Criteria 11
A1: =Dashboard!B24 -> engage regionally and nationally with peers, partners and stakeholders, collaborating where appropriate | B1: Priority | C1: Impact | D1: Level of Assurance | E1: Work assigned to | F1: Projected date for completion | G1: Description of work needing to be done | H1: Evidence
D2: =IF(COUNTIF(D3:D50,"Limited")>0,"Limited",IF(COUNTIF(D3:D50,"Reasonable")>0,"Reasonable","Substantial")) -> Substantial
A3: Task 11/1
A4: Task 11/2
A5: Task 11/3
A6: Task 11/4
A7: Task 11/5
A8: Task 11/6
A9: Task 11/7
A10: Task 11/8
A11: Task 11/9
A12: Task 11/10
